BEGIN:VCALENDAR
VERSION:2.0
PRODID:-//85.13.144.107//NONSGML kigkonsult.se iCalcreator 2.20//
CALSCALE:GREGORIAN
METHOD:PUBLISH
X-WR-TIMEZONE:Europe/Berlin
BEGIN:VEVENT
UID:event46@deejaymaniac.de
DTSTAMP:20260423T085425Z
CATEGORIES:Event
DESCRIPTION:INSANE pres HARD CHRISTMAS\nCategory: Event\nLink: https://www.
 deejaymaniac.de/index.php?option=com_jem&view=event&id=46:insane-pres-hard
 -christmas\n
DTSTART;VALUE=DATE:20251225
DTEND;VALUE=DATE:20251226
LOCATION:Atrium\,Dieselstrasse 3\,24223 Raisdorf\,Germany
SUMMARY:INSANE pres HARD CHRISTMAS
URL:https://www.deejaymaniac.de/index.php?option=com_jem&view=event&id=46:i
 nsane-pres-hard-christmas
END:VEVENT
BEGIN:VEVENT
UID:event45@deejaymaniac.de
DTSTAMP:20260423T085425Z
CATEGORIES:Event
DESCRIPTION:Nature One 2025\nCategory: Event\nLink: https://www.deejaymania
 c.de/index.php?option=com_jem&view=event&id=45:nature-one-2025\n
DTSTART;VALUE=DATE:20250801
DTEND;VALUE=DATE:20250802
LOCATION:Raketenbasis Pydna\,Kastellaun\,Germany
SUMMARY:Nature One 2025
URL:https://www.deejaymaniac.de/index.php?option=com_jem&view=event&id=45:n
 ature-one-2025
END:VEVENT
BEGIN:VEVENT
UID:event44@deejaymaniac.de
DTSTAMP:20260423T085425Z
CATEGORIES:Event
DESCRIPTION:Tunnel pres. LIL TEXAS\nCategory: Event\nLink: https://www.deej
 aymaniac.de/index.php?option=com_jem&view=event&id=44:tunnel-pres-lil-texa
 s\n
DTSTART;TZID=Europe/Berlin:20250530T230000
DTEND;TZID=Europe/Berlin:20250530T230000
LOCATION:Docks\,Spielbudenplatz 19\,20359 Hamburg\,Germany
SUMMARY:Tunnel pres. LIL TEXAS
URL:https://www.deejaymaniac.de/index.php?option=com_jem&view=event&id=44:t
 unnel-pres-lil-texas
END:VEVENT
BEGIN:VEVENT
UID:event43@deejaymaniac.de
DTSTAMP:20260423T085425Z
CATEGORIES:Event
DESCRIPTION:Tunnel pres. DR DONK\nCategory: Event\nLink: https://www.deejay
 maniac.de/index.php?option=com_jem&view=event&id=43:tunnel-pres-dr-donk\n
DTSTART;TZID=Europe/Berlin:20250214T230000
DTEND;TZID=Europe/Berlin:20250214T230000
LOCATION:Docks\,Spielbudenplatz 19\,20359 Hamburg\,Germany
SUMMARY:Tunnel pres. DR DONK
URL:https://www.deejaymaniac.de/index.php?option=com_jem&view=event&id=43:t
 unnel-pres-dr-donk
END:VEVENT
BEGIN:VEVENT
UID:event41@deejaymaniac.de
DTSTAMP:20260423T085425Z
CATEGORIES:Event
DESCRIPTION:Nature One 2024\nCategory: Event\nLink: https://www.deejaymania
 c.de/index.php?option=com_jem&view=event&id=41:nature-one-2024\n
DTSTART;VALUE=DATE:20240802
DTEND;VALUE=DATE:20240803
LOCATION:Raketenbasis Pydna\,Kastellaun\,Germany
SUMMARY:Nature One 2024
URL:https://www.deejaymaniac.de/index.php?option=com_jem&view=event&id=41:n
 ature-one-2024
END:VEVENT
BEGIN:VEVENT
UID:event39@deejaymaniac.de
DTSTAMP:20260423T085425Z
CATEGORIES:Event
DESCRIPTION:Uptempo Domination\nCategory: Event\nLink: https://www.deejayma
 niac.de/index.php?option=com_jem&view=event&id=39:uptempo-domination\n
DTSTART;TZID=Europe/Berlin:20240726T230000
DTEND;TZID=Europe/Berlin:20240726T230000
LOCATION:Docks\,Spielbudenplatz 19\,20359 Hamburg\,Germany
SUMMARY:Uptempo Domination
URL:https://www.deejaymaniac.de/index.php?option=com_jem&view=event&id=39:u
 ptempo-domination
END:VEVENT
BEGIN:VEVENT
UID:event42@deejaymaniac.de
DTSTAMP:20260423T085425Z
CATEGORIES:Event
DESCRIPTION:Sanctus\nCategory: Event\nLink: https://www.deejaymaniac.de/ind
 ex.php?option=com_jem&view=event&id=42:sanctus\n
DTSTART;VALUE=DATE:20240621
DTEND;VALUE=DATE:20240622
LOCATION:M-Bia\,Dircksenstraße 123\,10178 Berlin\,Germany
SUMMARY:Sanctus
URL:https://www.deejaymaniac.de/index.php?option=com_jem&view=event&id=42:s
 anctus
END:VEVENT
BEGIN:VEVENT
UID:event38@deejaymaniac.de
DTSTAMP:20260423T085425Z
CATEGORIES:Event
DESCRIPTION:Tunnel pres. SICKMODE\nCategory: Event\nLink: https://www.deeja
 ymaniac.de/index.php?option=com_jem&view=event&id=38:tunnel-pres-sickmode
 \n
DTSTART;TZID=Europe/Berlin:20240510T230000
DTEND;TZID=Europe/Berlin:20240510T230000
LOCATION:Docks\,Spielbudenplatz 19\,20359 Hamburg\,Germany
SUMMARY:Tunnel pres. SICKMODE
URL:https://www.deejaymaniac.de/index.php?option=com_jem&view=event&id=38:t
 unnel-pres-sickmode
END:VEVENT
BEGIN:VEVENT
UID:event40@deejaymaniac.de
DTSTAMP:20260423T085425Z
CATEGORIES:Event
DESCRIPTION:ANGERFIST\nCategory: Event\nLink: https://www.deejaymaniac.de/i
 ndex.php?option=com_jem&view=event&id=40:angerfist\n
DTSTART;TZID=Europe/Berlin:20240302T220000
DTEND;TZID=Europe/Berlin:20240302T220000
LOCATION:Astra Kulturhaus\,Revaler Strasse 99\,10245 Berlin\,Germany
SUMMARY:ANGERFIST
URL:https://www.deejaymaniac.de/index.php?option=com_jem&view=event&id=40:a
 ngerfist
END:VEVENT
BEGIN:VEVENT
UID:event28@deejaymaniac.de
DTSTAMP:20260423T085425Z
CATEGORIES:Event
DESCRIPTION:ARMAGEDDON – RITUAL OF THE CHOSEN\nCategory: Event\nLink: https
 ://www.deejaymaniac.de/index.php?option=com_jem&view=event&id=28:armageddo
 n-ritual-of-the-chosen\n
DTSTART;VALUE=DATE:20240113
DTEND;VALUE=DATE:20240114
LOCATION:Musikhuset Posten\,Østre Stationsvej 35\,Odense\,Denmark
SUMMARY:ARMAGEDDON – RITUAL OF THE CHOSEN
URL:https://www.deejaymaniac.de/index.php?option=com_jem&view=event&id=28:a
 rmageddon-ritual-of-the-chosen
END:VEVENT
BEGIN:VEVENT
UID:event37@deejaymaniac.de
DTSTAMP:20260423T085425Z
CATEGORIES:Event
DESCRIPTION:NYE UNDERGROUND RAVE\nCategory: Event\nLink: https://www.deejay
 maniac.de/index.php?option=com_jem&view=event&id=37:nye-underground-rave\n
DTSTART;TZID=Europe/Berlin:20231231T230000
DTEND;TZID=Europe/Berlin:20231231T230000
LOCATION:Recede Club im SEZ Berlin\,Landsberger Allee 77\,10249 Berlin\,Ger
 many
SUMMARY:NYE UNDERGROUND RAVE
URL:https://www.deejaymaniac.de/index.php?option=com_jem&view=event&id=37:n
 ye-underground-rave
END:VEVENT
BEGIN:VEVENT
UID:event35@deejaymaniac.de
DTSTAMP:20260423T085425Z
CATEGORIES:Event
DESCRIPTION:Tunnel pres. DR. PEACOCK\nCategory: Event\nLink: https://www.de
 ejaymaniac.de/index.php?option=com_jem&view=event&id=35:tunnel-pres-dr-pea
 cock\n
DTSTART;TZID=Europe/Berlin:20231229T230000
DTEND;TZID=Europe/Berlin:20231229T230000
LOCATION:Docks\,Spielbudenplatz 19\,20359 Hamburg\,Germany
SUMMARY:Tunnel pres. DR. PEACOCK
URL:https://www.deejaymaniac.de/index.php?option=com_jem&view=event&id=35:t
 unnel-pres-dr-peacock
END:VEVENT
BEGIN:VEVENT
UID:event36@deejaymaniac.de
DTSTAMP:20260423T085425Z
CATEGORIES:Event
DESCRIPTION:30 YEARS TUNNEL B-DAY RAVE\nCategory: Event\nLink: https://www.
 deejaymaniac.de/index.php?option=com_jem&view=event&id=36:30-years-tunnel-
 b-day-rave\n
DTSTART;TZID=Europe/Berlin:20231201T230000
DTEND;TZID=Europe/Berlin:20231201T230000
LOCATION:Docks\,Spielbudenplatz 19\,20359 Hamburg\,Germany
SUMMARY:30 YEARS TUNNEL B-DAY RAVE
URL:https://www.deejaymaniac.de/index.php?option=com_jem&view=event&id=36:3
 0-years-tunnel-b-day-rave
END:VEVENT
BEGIN:VEVENT
UID:event34@deejaymaniac.de
DTSTAMP:20260423T085425Z
CATEGORIES:Event
DESCRIPTION:UNDERGROUND RAVE BERLIN\nCategory: Event\nLink: https://www.dee
 jaymaniac.de/index.php?option=com_jem&view=event&id=34:underground-rave-be
 rlin\n
DTSTART;TZID=Europe/Berlin:20231020T230000
DTEND;TZID=Europe/Berlin:20231020T230000
LOCATION:Recede Club im SEZ Berlin\,Landsberger Allee 77\,10249 Berlin\,Ger
 many
SUMMARY:UNDERGROUND RAVE BERLIN
URL:https://www.deejaymaniac.de/index.php?option=com_jem&view=event&id=34:u
 nderground-rave-berlin
END:VEVENT
BEGIN:VEVENT
UID:event33@deejaymaniac.de
DTSTAMP:20260423T085425Z
CATEGORIES:Event
DESCRIPTION:Tunnel pres. LUNAKORPZ\nCategory: Event\nLink: https://www.deej
 aymaniac.de/index.php?option=com_jem&view=event&id=33:tunnel-pres-lunakorp
 z\n
DTSTART;TZID=Europe/Berlin:20230929T230000
DTEND;TZID=Europe/Berlin:20230929T230000
LOCATION:Tunnel Club\,Große Freiheit 36\,22767 Hamburg\,Germany
SUMMARY:Tunnel pres. LUNAKORPZ
URL:https://www.deejaymaniac.de/index.php?option=com_jem&view=event&id=33:t
 unnel-pres-lunakorpz
END:VEVENT
BEGIN:VEVENT
UID:event32@deejaymaniac.de
DTSTAMP:20260423T085425Z
CATEGORIES:Event
DESCRIPTION:Berlin bleibt hart! Fuckparade Aftershow Party 2023\nCategory: 
 Event\nLink: https://www.deejaymaniac.de/index.php?option=com_jem&view=eve
 nt&id=32:berlin-bleibt-hart-fuckparade-aftershow-party-2023\n
DTSTART;TZID=Europe/Berlin:20230909T230000
DTEND;TZID=Europe/Berlin:20230909T230000
LOCATION:ASEVEN\,Alexanderstr. 7\,10178 Berlin\,Germany
SUMMARY:Berlin bleibt hart! Fuckparade Aftershow Party 2023
URL:https://www.deejaymaniac.de/index.php?option=com_jem&view=event&id=32:b
 erlin-bleibt-hart-fuckparade-aftershow-party-2023
END:VEVENT
BEGIN:VEVENT
UID:event31@deejaymaniac.de
DTSTAMP:20260423T085425Z
CATEGORIES:Event
DESCRIPTION:Tunnel pres. DIMITRI K\nCategory: Event\nLink: https://www.deej
 aymaniac.de/index.php?option=com_jem&view=event&id=31:tunnel-pres-dimitri-
 k\n
DTSTART;TZID=Europe/Berlin:20230826T230000
DTEND;TZID=Europe/Berlin:20230826T230000
LOCATION:Docks\,Spielbudenplatz 19\,20359 Hamburg\,Germany
SUMMARY:Tunnel pres. DIMITRI K
URL:https://www.deejaymaniac.de/index.php?option=com_jem&view=event&id=31:t
 unnel-pres-dimitri-k
END:VEVENT
BEGIN:VEVENT
UID:event27@deejaymaniac.de
DTSTAMP:20260423T085425Z
CATEGORIES:Event
DESCRIPTION:Nature One\nCategory: Event\nLink: https://www.deejaymaniac.de/
 index.php?option=com_jem&view=event&id=27:nature-one\n
DTSTART;VALUE=DATE:20230804
DTEND;VALUE=DATE:20230805
LOCATION:Raketenbasis Pydna\,Kastellaun\,Germany
SUMMARY:Nature One
URL:https://www.deejaymaniac.de/index.php?option=com_jem&view=event&id=27:n
 ature-one
END:VEVENT
BEGIN:VEVENT
UID:event29@deejaymaniac.de
DTSTAMP:20260423T085425Z
CATEGORIES:Event
DESCRIPTION:Uptempo Domination\nCategory: Event\nLink: https://www.deejayma
 niac.de/index.php?option=com_jem&view=event&id=29:uptempo-domination\n
DTSTART;VALUE=DATE:20230721
DTEND;VALUE=DATE:20230722
LOCATION:Tunnel Club\,Große Freiheit 36\,22767 Hamburg\,Germany
SUMMARY:Uptempo Domination
URL:https://www.deejaymaniac.de/index.php?option=com_jem&view=event&id=29:u
 ptempo-domination
END:VEVENT
BEGIN:VEVENT
UID:event26@deejaymaniac.de
DTSTAMP:20260423T085425Z
CATEGORIES:Event
DESCRIPTION:PRIVATE PARTY\nCategory: Event\nLink: https://www.deejaymaniac.
 de/index.php?option=com_jem&view=event&id=26:private-party\n
DTSTART;VALUE=DATE:20230602
DTEND;VALUE=DATE:20230603
LOCATION:TBA\,TBA
SUMMARY:PRIVATE PARTY
URL:https://www.deejaymaniac.de/index.php?option=com_jem&view=event&id=26:p
 rivate-party
END:VEVENT
BEGIN:VEVENT
UID:event25@deejaymaniac.de
DTSTAMP:20260423T085425Z
CATEGORIES:Event
DESCRIPTION:Tunnel pres. ROOLER\nCategory: Event\nLink: https://www.deejaym
 aniac.de/index.php?option=com_jem&view=event&id=25:tunnel-pres-rooler\n
DTSTART;VALUE=DATE:20230519
DTEND;VALUE=DATE:20230520
LOCATION:Docks\,Spielbudenplatz 19\,20359 Hamburg\,Germany
SUMMARY:Tunnel pres. ROOLER
URL:https://www.deejaymaniac.de/index.php?option=com_jem&view=event&id=25:t
 unnel-pres-rooler
END:VEVENT
BEGIN:VEVENT
UID:event22@deejaymaniac.de
DTSTAMP:20260423T085425Z
CATEGORIES:Event
DESCRIPTION:Tunnel pres. SICKMODE\nCategory: Event\nLink: https://www.deeja
 ymaniac.de/index.php?option=com_jem&view=event&id=22:tunnel-pres-sickmode
 \n
DTSTART;VALUE=DATE:20230430
DTEND;VALUE=DATE:20230501
LOCATION:Docks\,Spielbudenplatz 19\,20359 Hamburg\,Germany
SUMMARY:Tunnel pres. SICKMODE
URL:https://www.deejaymaniac.de/index.php?option=com_jem&view=event&id=22:t
 unnel-pres-sickmode
END:VEVENT
BEGIN:VEVENT
UID:event24@deejaymaniac.de
DTSTAMP:20260423T085425Z
CATEGORIES:Event
DESCRIPTION:Tunnel pres. PAUL ELSTAK\nCategory: Event\nLink: https://www.de
 ejaymaniac.de/index.php?option=com_jem&view=event&id=24:tunnel-pres-paul-e
 lstak\n
DTSTART;VALUE=DATE:20230127
DTEND;VALUE=DATE:20230128
LOCATION:Docks\,Spielbudenplatz 19\,20359 Hamburg\,Germany
SUMMARY:Tunnel pres. PAUL ELSTAK
URL:https://www.deejaymaniac.de/index.php?option=com_jem&view=event&id=24:t
 unnel-pres-paul-elstak
END:VEVENT
BEGIN:VEVENT
UID:event23@deejaymaniac.de
DTSTAMP:20260423T085425Z
CATEGORIES:Event
DESCRIPTION:Tunnel pres. DR. PEACOCK\nCategory: Event\nLink: https://www.de
 ejaymaniac.de/index.php?option=com_jem&view=event&id=23:tunnel-pres-dr-pea
 cock\n
DTSTART;VALUE=DATE:20221222
DTEND;VALUE=DATE:20221223
LOCATION:Große Freiheit 36\,Große Freiheit 36\,22767 Hamburg\,Germany
SUMMARY:Tunnel pres. DR. PEACOCK
URL:https://www.deejaymaniac.de/index.php?option=com_jem&view=event&id=23:t
 unnel-pres-dr-peacock
END:VEVENT
BEGIN:VEVENT
UID:event21@deejaymaniac.de
DTSTAMP:20260423T085425Z
CATEGORIES:Event
DESCRIPTION:Tunnel pres. UPTEMPO DIVAS\nCategory: Event\nLink: https://www.
 deejaymaniac.de/index.php?option=com_jem&view=event&id=21:tunnel-pres-upte
 mpo-divas\n
DTSTART;VALUE=DATE:20221118
DTEND;VALUE=DATE:20221119
LOCATION:Tunnel Club\,Große Freiheit 36\,22767 Hamburg\,Germany
SUMMARY:Tunnel pres. UPTEMPO DIVAS
URL:https://www.deejaymaniac.de/index.php?option=com_jem&view=event&id=21:t
 unnel-pres-uptempo-divas
END:VEVENT
BEGIN:VEVENT
UID:event20@deejaymaniac.de
DTSTAMP:20260423T085425Z
CATEGORIES:Event
DESCRIPTION:Uptempo Domination\nCategory: Event\nLink: https://www.deejayma
 niac.de/index.php?option=com_jem&view=event&id=20:uptempo-domination\n
DTSTART;TZID=Europe/Berlin:20220930T230000
DTEND;TZID=Europe/Berlin:20220930T230000
LOCATION:Tunnel Club\,Große Freiheit 36\,22767 Hamburg\,Germany
SUMMARY:Uptempo Domination
URL:https://www.deejaymaniac.de/index.php?option=com_jem&view=event&id=20:u
 ptempo-domination
END:VEVENT
BEGIN:VEVENT
UID:event19@deejaymaniac.de
DTSTAMP:20260423T085425Z
CATEGORIES:Event
DESCRIPTION:St. Pauli goes PURE RAW\nCategory: Event\nLink: https://www.dee
 jaymaniac.de/index.php?option=com_jem&view=event&id=19:st-pauli-goes-pure-
 raw\n
DTSTART;TZID=Europe/Berlin:20220916T230000
DTEND;TZID=Europe/Berlin:20220916T230000
LOCATION:Tunnel Club\,Große Freiheit 36\,22767 Hamburg\,Germany
SUMMARY:St. Pauli goes PURE RAW
URL:https://www.deejaymaniac.de/index.php?option=com_jem&view=event&id=19:s
 t-pauli-goes-pure-raw
END:VEVENT
BEGIN:VEVENT
UID:event18@deejaymaniac.de
DTSTAMP:20260423T085425Z
CATEGORIES:Event
DESCRIPTION:SICKMODE - Kings of Raw\nCategory: Event\nLink: https://www.dee
 jaymaniac.de/index.php?option=com_jem&view=event&id=18:sickmode-kings-of-r
 aw\n
DTSTART;TZID=Europe/Berlin:20220812T230000
DTEND;TZID=Europe/Berlin:20220812T230000
LOCATION:Tunnel Club\,Große Freiheit 36\,22767 Hamburg\,Germany
SUMMARY:SICKMODE - Kings of Raw
URL:https://www.deejaymaniac.de/index.php?option=com_jem&view=event&id=18:s
 ickmode-kings-of-raw
END:VEVENT
BEGIN:VEVENT
UID:event16@deejaymaniac.de
DTSTAMP:20260423T085425Z
CATEGORIES:Event
DESCRIPTION:Nature One 2022\nCategory: Event\nLink: https://www.deejaymania
 c.de/index.php?option=com_jem&view=event&id=16:nature-one-2022\n
DTSTART;VALUE=DATE:20220805
DTEND;VALUE=DATE:20220808
LOCATION:Raketenbasis Pydna\,Kastellaun\,Germany
SUMMARY:Nature One 2022
URL:https://www.deejaymaniac.de/index.php?option=com_jem&view=event&id=16:n
 ature-one-2022
END:VEVENT
BEGIN:VEVENT
UID:event17@deejaymaniac.de
DTSTAMP:20260423T085425Z
CATEGORIES:Event
DESCRIPTION:The Grand Opening\nCategory: Event\nLink: https://www.deejayman
 iac.de/index.php?option=com_jem&view=event&id=17:the-grand-opening\n
DTSTART;TZID=Europe/Berlin:20220701T220000
DTEND;TZID=Europe/Berlin:20220701T220000
LOCATION:Tunnel Club\,Große Freiheit 36\,22767 Hamburg\,Germany
SUMMARY:The Grand Opening
URL:https://www.deejaymaniac.de/index.php?option=com_jem&view=event&id=17:t
 he-grand-opening
END:VEVENT
BEGIN:VEVENT
UID:event15@deejaymaniac.de
DTSTAMP:20260423T085425Z
CATEGORIES:Event
DESCRIPTION:INURFASE: UNLEASHED\nCategory: Event\nLink: https://www.deejaym
 aniac.de/index.php?option=com_jem&view=event&id=15:inurfase\n
DTSTART;TZID=Europe/Berlin:20220513T230000
DTEND;TZID=Europe/Berlin:20220513T230000
LOCATION:Docks\,Spielbudenplatz 19\,20359 Hamburg\,Germany
SUMMARY:INURFASE: UNLEASHED
URL:https://www.deejaymaniac.de/index.php?option=com_jem&view=event&id=15:i
 nurfase
END:VEVENT
BEGIN:VEVENT
UID:event14@deejaymaniac.de
DTSTAMP:20260423T085425Z
CATEGORIES:Event
DESCRIPTION:Hard Exposure - Rise From The Ashes\nCategory: Event\nLink: htt
 ps://www.deejaymaniac.de/index.php?option=com_jem&view=event&id=14:hard-ex
 posure-rise-from-the-ashes\n
DTSTART;TZID=Europe/Berlin:20211022T210000
DTEND;TZID=Europe/Berlin:20211022T210000
LOCATION:Gazzværket\,Gasværksvej 20\,6200 Åbenrå\,Denmark
SUMMARY:Hard Exposure - Rise From The Ashes
URL:https://www.deejaymaniac.de/index.php?option=com_jem&view=event&id=14:h
 ard-exposure-rise-from-the-ashes
END:VEVENT
BEGIN:VEVENT
UID:event12@deejaymaniac.de
DTSTAMP:20260423T085425Z
CATEGORIES:Event
DESCRIPTION:Uptempo Madness\nCategory: Event\nLink: https://www.deejaymania
 c.de/index.php?option=com_jem&view=event&id=12:uptempo-madness\n
DTSTART;VALUE=DATE:20200229
DTEND;VALUE=DATE:20200301
LOCATION:ASEVEN\,Alexanderstr. 7\,10178 Berlin\,Germany
SUMMARY:Uptempo Madness
URL:https://www.deejaymaniac.de/index.php?option=com_jem&view=event&id=12:u
 ptempo-madness
END:VEVENT
BEGIN:VEVENT
UID:event11@deejaymaniac.de
DTSTAMP:20260423T085425Z
CATEGORIES:Event
DESCRIPTION:Hard To The Bone\nCategory: Event\nLink: https://www.deejaymani
 ac.de/index.php?option=com_jem&view=event&id=11:hard-to-the-bone\n
DTSTART;VALUE=DATE:20200124
DTEND;VALUE=DATE:20200125
LOCATION:Tunnel Club\,Beatles Platz 1\,22767 Hamburg\,Germany
SUMMARY:Hard To The Bone
URL:https://www.deejaymaniac.de/index.php?option=com_jem&view=event&id=11:h
 ard-to-the-bone
END:VEVENT
BEGIN:VEVENT
UID:event10@deejaymaniac.de
DTSTAMP:20260423T085425Z
CATEGORIES:Event
DESCRIPTION:Hard As Hardcore - Resurrection\nCategory: Event\nLink: https:/
 /www.deejaymaniac.de/index.php?option=com_jem&view=event&id=10:hard-as-har
 dcore-resurrection\n
DTSTART;VALUE=DATE:20191109
DTEND;VALUE=DATE:20191110
LOCATION:Hovslund Forsamlingshus\,Ribevej 42\,6230 Hovslund Stationsby\,Den
 mark
SUMMARY:Hard As Hardcore - Resurrection
URL:https://www.deejaymaniac.de/index.php?option=com_jem&view=event&id=10:h
 ard-as-hardcore-resurrection
END:VEVENT
BEGIN:VEVENT
UID:event8@deejaymaniac.de
DTSTAMP:20260423T085425Z
CATEGORIES:Event
DESCRIPTION:Friedlich Feiern\nCategory: Event\nLink: https://www.deejaymani
 ac.de/index.php?option=com_jem&view=event&id=8:friedlich-feiern\n
DTSTART;VALUE=DATE:20191004
DTEND;VALUE=DATE:20191005
LOCATION:VOID\,Wiesenweg 5 - 9\,10365 Berlin\,Germany
SUMMARY:Friedlich Feiern
URL:https://www.deejaymaniac.de/index.php?option=com_jem&view=event&id=8:fr
 iedlich-feiern
END:VEVENT
BEGIN:VEVENT
UID:event9@deejaymaniac.de
DTSTAMP:20260423T085425Z
CATEGORIES:Event
DESCRIPTION:Love World Peace Parade\nCategory: Event\nLink: https://www.dee
 jaymaniac.de/index.php?option=com_jem&view=event&id=9:love-world-peace-par
 ade\n
DTSTART;VALUE=DATE:20190921
DTEND;VALUE=DATE:20190922
LOCATION:Brandenburger Tor\,Berlin\,Germany
SUMMARY:Love World Peace Parade
URL:https://www.deejaymaniac.de/index.php?option=com_jem&view=event&id=9:lo
 ve-world-peace-parade
END:VEVENT
BEGIN:VEVENT
UID:event7@deejaymaniac.de
DTSTAMP:20260423T085425Z
CATEGORIES:Event
DESCRIPTION:Wanted\nCategory: Event\nLink: https://www.deejaymaniac.de/inde
 x.php?option=com_jem&view=event&id=7:wanted\n
DTSTART;VALUE=DATE:20190914
DTEND;VALUE=DATE:20190915
LOCATION:ASEVEN\,Alexanderstr. 7\,10178 Berlin\,Germany
SUMMARY:Wanted
URL:https://www.deejaymaniac.de/index.php?option=com_jem&view=event&id=7:wa
 nted
END:VEVENT
BEGIN:VEVENT
UID:event6@deejaymaniac.de
DTSTAMP:20260423T085425Z
CATEGORIES:Event
DESCRIPTION:Frenchcore Revolution\nCategory: Event\nLink: https://www.deeja
 ymaniac.de/index.php?option=com_jem&view=event&id=6:frenchcore-revolution
 \n
DTSTART;VALUE=DATE:20190824
DTEND;VALUE=DATE:20190825
LOCATION:Tunnel Club\,Beatles Platz 1\,22767 Hamburg\,Germany
SUMMARY:Frenchcore Revolution
URL:https://www.deejaymaniac.de/index.php?option=com_jem&view=event&id=6:fr
 enchcore-revolution
END:VEVENT
BEGIN:VEVENT
UID:event4@deejaymaniac.de
DTSTAMP:20260423T085425Z
CATEGORIES:Event
DESCRIPTION:Nature One 2019\nCategory: Event\nLink: https://www.deejaymania
 c.de/index.php?option=com_jem&view=event&id=4:nature-one-2019\n
DTSTART;VALUE=DATE:20190802
DTEND;VALUE=DATE:20190803
LOCATION:Raketenbasis Pydna\,Kastellaun\,Germany
SUMMARY:Nature One 2019
URL:https://www.deejaymaniac.de/index.php?option=com_jem&view=event&id=4:na
 ture-one-2019
END:VEVENT
BEGIN:VEVENT
UID:event5@deejaymaniac.de
DTSTAMP:20260423T085425Z
CATEGORIES:Event
DESCRIPTION:Hard To The Core\nCategory: Event\nLink: https://www.deejaymani
 ac.de/index.php?option=com_jem&view=event&id=5:hard-to-the-core\n
DTSTART;VALUE=DATE:20190524
DTEND;VALUE=DATE:20190525
LOCATION:Tunnel Club\,Beatles Platz 1\,22767 Hamburg\,Germany
SUMMARY:Hard To The Core
URL:https://www.deejaymaniac.de/index.php?option=com_jem&view=event&id=5:ha
 rd-to-the-core
END:VEVENT
BEGIN:VEVENT
UID:event3@deejaymaniac.de
DTSTAMP:20260423T085425Z
CATEGORIES:Event
DESCRIPTION:Frenchcore Take Over\nCategory: Event\nLink: https://www.deejay
 maniac.de/index.php?option=com_jem&view=event&id=3:frenchcore-take-over\n
DTSTART;VALUE=DATE:20190420
DTEND;VALUE=DATE:20190421
LOCATION:Extra Musicpark\,Elbestrasse 15\,26169 Friesoythe\,Germany
SUMMARY:Frenchcore Take Over
URL:https://www.deejaymaniac.de/index.php?option=com_jem&view=event&id=3:fr
 enchcore-take-over
END:VEVENT
BEGIN:VEVENT
UID:event2@deejaymaniac.de
DTSTAMP:20260423T085425Z
CATEGORIES:Event
DESCRIPTION:This is Uptempo\nCategory: Event\nLink: https://www.deejaymania
 c.de/index.php?option=com_jem&view=event&id=2:this-is-uptempo\n
DTSTART;VALUE=DATE:20190419
DTEND;VALUE=DATE:20190420
LOCATION:Tunnel Club\,Beatles Platz 1\,22767 Hamburg\,Germany
SUMMARY:This is Uptempo
URL:https://www.deejaymaniac.de/index.php?option=com_jem&view=event&id=2:th
 is-is-uptempo
END:VEVENT
BEGIN:VEVENT
UID:event1@deejaymaniac.de
DTSTAMP:20260423T085425Z
CATEGORIES:Event
DESCRIPTION:Friedlich Feiern\nCategory: Event\nLink: https://www.deejaymani
 ac.de/index.php?option=com_jem&view=event&id=1:friedlich-feiern\n
DTSTART;VALUE=DATE:20190405
DTEND;VALUE=DATE:20190406
LOCATION:M-Bia\,Dircksenstraße 123\,10178 Berlin\,Germany
SUMMARY:Friedlich Feiern
URL:https://www.deejaymaniac.de/index.php?option=com_jem&view=event&id=1:fr
 iedlich-feiern
END:VEVENT
END:VCALENDAR